BEGIN:VCALENDAR
VERSION:2.0
PRODID:-//Sihltaler Sportclub - ECPv6.15.20//NONSGML v1.0//EN
CALSCALE:GREGORIAN
METHOD:PUBLISH
X-WR-CALNAME:Sihltaler Sportclub
X-ORIGINAL-URL:https://sihltalersportclub.ch
X-WR-CALDESC:Veranstaltungen für Sihltaler Sportclub
REFRESH-INTERVAL;VALUE=DURATION:PT1H
X-Robots-Tag:noindex
X-PUBLISHED-TTL:PT1H
BEGIN:VTIMEZONE
TZID:Europe/Zurich
BEGIN:DAYLIGHT
TZOFFSETFROM:+0100
TZOFFSETTO:+0200
TZNAME:CEST
DTSTART:20240331T010000
END:DAYLIGHT
BEGIN:STANDARD
TZOFFSETFROM:+0200
TZOFFSETTO:+0100
TZNAME:CET
DTSTART:20241027T010000
END:STANDARD
BEGIN:DAYLIGHT
TZOFFSETFROM:+0100
TZOFFSETTO:+0200
TZNAME:CEST
DTSTART:20250330T010000
END:DAYLIGHT
BEGIN:STANDARD
TZOFFSETFROM:+0200
TZOFFSETTO:+0100
TZNAME:CET
DTSTART:20251026T010000
END:STANDARD
BEGIN:DAYLIGHT
TZOFFSETFROM:+0100
TZOFFSETTO:+0200
TZNAME:CEST
DTSTART:20260329T010000
END:DAYLIGHT
BEGIN:STANDARD
TZOFFSETFROM:+0200
TZOFFSETTO:+0100
TZNAME:CET
DTSTART:20261025T010000
END:STANDARD
END:VTIMEZONE
BEGIN:VEVENT
DTSTART;TZID=Europe/Zurich:20251201T183000
DTEND;TZID=Europe/Zurich:20251201T193000
DTSTAMP:20260420T193309
CREATED:20250818T072731Z
LAST-MODIFIED:20250818T072733Z
UID:14388-1764613800-1764617400@sihltalersportclub.ch
SUMMARY:Ganzkörper-Training
DESCRIPTION:Trainingsleitung: Anita Meyer
URL:https://sihltalersportclub.ch/trainings-news/ganzkoerper-training-42/
END:VEVENT
BEGIN:VEVENT
DTSTART;TZID=Europe/Zurich:20251204T190000
DTEND;TZID=Europe/Zurich:20251204T200000
DTSTAMP:20260420T193309
CREATED:20250916T121629Z
LAST-MODIFIED:20250916T121631Z
UID:14537-1764874800-1764878400@sihltalersportclub.ch
SUMMARY:Body-Toning
DESCRIPTION:Trainingsleitung: Christine Chapman
URL:https://sihltalersportclub.ch/trainings-news/body-toning-30/
END:VEVENT
BEGIN:VEVENT
DTSTART;TZID=Europe/Zurich:20251208T183000
DTEND;TZID=Europe/Zurich:20251208T193000
DTSTAMP:20260420T193309
CREATED:20250818T072835Z
LAST-MODIFIED:20250818T072837Z
UID:14390-1765218600-1765222200@sihltalersportclub.ch
SUMMARY:Ganzkörper-Training
DESCRIPTION:Trainingsleitung: Simone Küttel
URL:https://sihltalersportclub.ch/trainings-news/ganzkoerper-training-43/
END:VEVENT
BEGIN:VEVENT
DTSTART;TZID=Europe/Zurich:20251211T190000
DTEND;TZID=Europe/Zurich:20251211T200000
DTSTAMP:20260420T193309
CREATED:20250916T121738Z
LAST-MODIFIED:20250916T121741Z
UID:14539-1765479600-1765483200@sihltalersportclub.ch
SUMMARY:Body-Toning
DESCRIPTION:Trainingsleitung: Tina Inglin
URL:https://sihltalersportclub.ch/trainings-news/body-toning-31/
END:VEVENT
BEGIN:VEVENT
DTSTART;TZID=Europe/Zurich:20251215T183000
DTEND;TZID=Europe/Zurich:20251215T193000
DTSTAMP:20260420T193309
CREATED:20250818T072942Z
LAST-MODIFIED:20250818T072944Z
UID:14392-1765823400-1765827000@sihltalersportclub.ch
SUMMARY:Ganzkörper-Training
DESCRIPTION:Trainingsleitung: Anita Meyer
URL:https://sihltalersportclub.ch/trainings-news/ganzkoerper-training-44/
END:VEVENT
BEGIN:VEVENT
DTSTART;TZID=Europe/Zurich:20251218T190000
DTEND;TZID=Europe/Zurich:20251218T200000
DTSTAMP:20260420T193309
CREATED:20250916T123035Z
LAST-MODIFIED:20250916T123037Z
UID:14542-1766084400-1766088000@sihltalersportclub.ch
SUMMARY:Body-Toning
DESCRIPTION:Trainingsleitung: Britta Zazar
URL:https://sihltalersportclub.ch/trainings-news/body-toning-32/
END:VEVENT
BEGIN:VEVENT
DTSTART;TZID=Europe/Zurich:20251222T000000
DTEND;TZID=Europe/Zurich:20251222T235959
DTSTAMP:20260420T193309
CREATED:20250818T073052Z
LAST-MODIFIED:20250818T073053Z
UID:14394-1766361600-1766447999@sihltalersportclub.ch
SUMMARY:Kein Training (Weihnachtsferien)
DESCRIPTION:
URL:https://sihltalersportclub.ch/trainings-news/kein-training-weihnachtsferien-4/
END:VEVENT
BEGIN:VEVENT
DTSTART;TZID=Europe/Zurich:20251225T000000
DTEND;TZID=Europe/Zurich:20251225T235959
DTSTAMP:20260420T193309
CREATED:20250916T123124Z
LAST-MODIFIED:20250916T123125Z
UID:14544-1766620800-1766707199@sihltalersportclub.ch
SUMMARY:Kein Training (Weihnachtsferien)
DESCRIPTION:
URL:https://sihltalersportclub.ch/trainings-news/kein-training-weihnachtsferien-6/
END:VEVENT
BEGIN:VEVENT
DTSTART;TZID=Europe/Zurich:20251229T000000
DTEND;TZID=Europe/Zurich:20251229T235959
DTSTAMP:20260420T193309
CREATED:20250818T073133Z
LAST-MODIFIED:20250818T073135Z
UID:14396-1766966400-1767052799@sihltalersportclub.ch
SUMMARY:Kein Training (Weihnachtsferien)
DESCRIPTION:
URL:https://sihltalersportclub.ch/trainings-news/kein-training-weihnachtsferien-5/
END:VEVENT
END:VCALENDAR