BEGIN:VCALENDAR
VERSION:2.0
PRODID:-//Sihltaler Sportclub - ECPv6.15.20//NONSGML v1.0//EN
CALSCALE:GREGORIAN
METHOD:PUBLISH
X-WR-CALNAME:Sihltaler Sportclub
X-ORIGINAL-URL:https://sihltalersportclub.ch
X-WR-CALDESC:Veranstaltungen für Sihltaler Sportclub
REFRESH-INTERVAL;VALUE=DURATION:PT1H
X-Robots-Tag:noindex
X-PUBLISHED-TTL:PT1H
BEGIN:VTIMEZONE
TZID:Europe/Zurich
BEGIN:DAYLIGHT
TZOFFSETFROM:+0100
TZOFFSETTO:+0200
TZNAME:CEST
DTSTART:20240331T010000
END:DAYLIGHT
BEGIN:STANDARD
TZOFFSETFROM:+0200
TZOFFSETTO:+0100
TZNAME:CET
DTSTART:20241027T010000
END:STANDARD
BEGIN:DAYLIGHT
TZOFFSETFROM:+0100
TZOFFSETTO:+0200
TZNAME:CEST
DTSTART:20250330T010000
END:DAYLIGHT
BEGIN:STANDARD
TZOFFSETFROM:+0200
TZOFFSETTO:+0100
TZNAME:CET
DTSTART:20251026T010000
END:STANDARD
BEGIN:DAYLIGHT
TZOFFSETFROM:+0100
TZOFFSETTO:+0200
TZNAME:CEST
DTSTART:20260329T010000
END:DAYLIGHT
BEGIN:STANDARD
TZOFFSETFROM:+0200
TZOFFSETTO:+0100
TZNAME:CET
DTSTART:20261025T010000
END:STANDARD
END:VTIMEZONE
BEGIN:VEVENT
DTSTART;TZID=Europe/Zurich:20251002T190000
DTEND;TZID=Europe/Zurich:20251002T200000
DTSTAMP:20260420T232009
CREATED:20250916T120431Z
LAST-MODIFIED:20250916T120433Z
UID:14517-1759431600-1759435200@sihltalersportclub.ch
SUMMARY:Body-Toning
DESCRIPTION:Trainingsleitung: Christine Chapman
URL:https://sihltalersportclub.ch/trainings-news/body-toning-10/
END:VEVENT
BEGIN:VEVENT
DTSTART;TZID=Europe/Zurich:20251006T000000
DTEND;TZID=Europe/Zurich:20251006T235959
DTSTAMP:20260420T232009
CREATED:20250818T071833Z
LAST-MODIFIED:20250818T071835Z
UID:14372-1759708800-1759795199@sihltalersportclub.ch
SUMMARY:Kein Training (Herbstferien)
DESCRIPTION:
URL:https://sihltalersportclub.ch/trainings-news/kein-training-herbstferien-5/
END:VEVENT
BEGIN:VEVENT
DTSTART;TZID=Europe/Zurich:20251009T000000
DTEND;TZID=Europe/Zurich:20251009T235959
DTSTAMP:20260420T232009
CREATED:20250916T120659Z
LAST-MODIFIED:20250916T120702Z
UID:14519-1759968000-1760054399@sihltalersportclub.ch
SUMMARY:Kein Training (Herbstferien)
DESCRIPTION:
URL:https://sihltalersportclub.ch/trainings-news/kein-training-herbstferien-7/
END:VEVENT
BEGIN:VEVENT
DTSTART;TZID=Europe/Zurich:20251013T000000
DTEND;TZID=Europe/Zurich:20251013T235959
DTSTAMP:20260420T232009
CREATED:20250818T071927Z
LAST-MODIFIED:20250818T071930Z
UID:14374-1760313600-1760399999@sihltalersportclub.ch
SUMMARY:Kein Training (Herbstferien)
DESCRIPTION:
URL:https://sihltalersportclub.ch/trainings-news/kein-training-herbstferien-6/
END:VEVENT
BEGIN:VEVENT
DTSTART;TZID=Europe/Zurich:20251016T000000
DTEND;TZID=Europe/Zurich:20251016T235959
DTSTAMP:20260420T232009
CREATED:20250916T120748Z
LAST-MODIFIED:20250916T120838Z
UID:14521-1760572800-1760659199@sihltalersportclub.ch
SUMMARY:Kein Training (Herbstferien)
DESCRIPTION:
URL:https://sihltalersportclub.ch/trainings-news/kein-training-herbstferien-8/
END:VEVENT
BEGIN:VEVENT
DTSTART;TZID=Europe/Zurich:20251020T183000
DTEND;TZID=Europe/Zurich:20251020T193000
DTSTAMP:20260420T232009
CREATED:20250818T072026Z
LAST-MODIFIED:20250818T072028Z
UID:14376-1760985000-1760988600@sihltalersportclub.ch
SUMMARY:Ganzkörper-Training
DESCRIPTION:Trainingsleitung: Anita Meyer
URL:https://sihltalersportclub.ch/trainings-news/ganzkoerper-training-36/
END:VEVENT
BEGIN:VEVENT
DTSTART;TZID=Europe/Zurich:20251023T190000
DTEND;TZID=Europe/Zurich:20251023T200000
DTSTAMP:20260420T232009
CREATED:20250916T120945Z
LAST-MODIFIED:20250916T120948Z
UID:14524-1761246000-1761249600@sihltalersportclub.ch
SUMMARY:Body-Toning
DESCRIPTION:Trainingsleitung: Tina Inglin
URL:https://sihltalersportclub.ch/trainings-news/body-toning-11/
END:VEVENT
BEGIN:VEVENT
DTSTART;TZID=Europe/Zurich:20251025T000000
DTEND;TZID=Europe/Zurich:20251025T235959
DTSTAMP:20260420T232009
CREATED:20241226T152956Z
LAST-MODIFIED:20250213T100206Z
UID:12212-1761350400-1761436799@sihltalersportclub.ch
SUMMARY:Herbstlauf Wila
DESCRIPTION:5. Gemeinsame Laufveranstaltung 2025.
URL:https://sihltalersportclub.ch/trainings-news/herbstlauf-wila-2/
END:VEVENT
BEGIN:VEVENT
DTSTART;TZID=Europe/Zurich:20251027T183000
DTEND;TZID=Europe/Zurich:20251027T193000
DTSTAMP:20260420T232009
CREATED:20250818T072134Z
LAST-MODIFIED:20250818T072136Z
UID:14378-1761589800-1761593400@sihltalersportclub.ch
SUMMARY:Ganzkörper-Training
DESCRIPTION:Trainingsleitung: Simone Küttel
URL:https://sihltalersportclub.ch/trainings-news/ganzkoerper-training-37/
END:VEVENT
BEGIN:VEVENT
DTSTART;TZID=Europe/Zurich:20251030T190000
DTEND;TZID=Europe/Zurich:20251030T200000
DTSTAMP:20260420T232009
CREATED:20250916T121047Z
LAST-MODIFIED:20250916T121049Z
UID:14527-1761850800-1761854400@sihltalersportclub.ch
SUMMARY:Body-Toning
DESCRIPTION:Trainingsleitung: Christine Chapman
URL:https://sihltalersportclub.ch/trainings-news/body-toning-25/
END:VEVENT
BEGIN:VEVENT
DTSTART;TZID=Europe/Zurich:20251031T000000
DTEND;TZID=Europe/Zurich:20251031T235959
DTSTAMP:20260420T232009
CREATED:20250731T081813Z
LAST-MODIFIED:20250731T081814Z
UID:14306-1761868800-1761955199@sihltalersportclub.ch
SUMMARY:Leiteressen 2025
DESCRIPTION:Ort und weitere Informationen folgen!
URL:https://sihltalersportclub.ch/trainings-news/leiteressen-2025/
END:VEVENT
END:VCALENDAR