BEGIN:VCALENDAR
VERSION:2.0
PRODID:-//Sihltaler Sportclub - ECPv6.15.20//NONSGML v1.0//EN
CALSCALE:GREGORIAN
METHOD:PUBLISH
X-WR-CALNAME:Sihltaler Sportclub
X-ORIGINAL-URL:https://sihltalersportclub.ch
X-WR-CALDESC:Veranstaltungen für Sihltaler Sportclub
REFRESH-INTERVAL;VALUE=DURATION:PT1H
X-Robots-Tag:noindex
X-PUBLISHED-TTL:PT1H
BEGIN:VTIMEZONE
TZID:Europe/Zurich
BEGIN:DAYLIGHT
TZOFFSETFROM:+0100
TZOFFSETTO:+0200
TZNAME:CEST
DTSTART:20240331T010000
END:DAYLIGHT
BEGIN:STANDARD
TZOFFSETFROM:+0200
TZOFFSETTO:+0100
TZNAME:CET
DTSTART:20241027T010000
END:STANDARD
BEGIN:DAYLIGHT
TZOFFSETFROM:+0100
TZOFFSETTO:+0200
TZNAME:CEST
DTSTART:20250330T010000
END:DAYLIGHT
BEGIN:STANDARD
TZOFFSETFROM:+0200
TZOFFSETTO:+0100
TZNAME:CET
DTSTART:20251026T010000
END:STANDARD
BEGIN:DAYLIGHT
TZOFFSETFROM:+0100
TZOFFSETTO:+0200
TZNAME:CEST
DTSTART:20260329T010000
END:DAYLIGHT
BEGIN:STANDARD
TZOFFSETFROM:+0200
TZOFFSETTO:+0100
TZNAME:CET
DTSTART:20261025T010000
END:STANDARD
END:VTIMEZONE
BEGIN:VEVENT
DTSTART;TZID=Europe/Zurich:20250901T183000
DTEND;TZID=Europe/Zurich:20250901T193000
DTSTAMP:20260421T011350
CREATED:20250818T071052Z
LAST-MODIFIED:20250818T071150Z
UID:14362-1756751400-1756755000@sihltalersportclub.ch
SUMMARY:Ganzkörper-Training
DESCRIPTION:Trainingsleitung: Simone Küttel
URL:https://sihltalersportclub.ch/trainings-news/ganzkoerper-training-31/
END:VEVENT
BEGIN:VEVENT
DTSTART;TZID=Europe/Zurich:20250906T000000
DTEND;TZID=Europe/Zurich:20250906T235959
DTSTAMP:20260421T011350
CREATED:20241226T152829Z
LAST-MODIFIED:20241226T152830Z
UID:12210-1757116800-1757203199@sihltalersportclub.ch
SUMMARY:Herbstlauf Muri
DESCRIPTION:4. Gemeinsame Laufveranstaltung 2025
URL:https://sihltalersportclub.ch/trainings-news/herbstlauf-muri/
END:VEVENT
BEGIN:VEVENT
DTSTART;TZID=Europe/Zurich:20250908T183000
DTEND;TZID=Europe/Zurich:20250908T193000
DTSTAMP:20260421T011350
CREATED:20250818T071258Z
LAST-MODIFIED:20250818T071300Z
UID:14364-1757356200-1757359800@sihltalersportclub.ch
SUMMARY:Ganzkörper-Training
DESCRIPTION:Trainingsleitung: Anita Meyer
URL:https://sihltalersportclub.ch/trainings-news/ganzkoerper-training-32/
END:VEVENT
BEGIN:VEVENT
DTSTART;TZID=Europe/Zurich:20250915T183000
DTEND;TZID=Europe/Zurich:20250915T193000
DTSTAMP:20260421T011350
CREATED:20250818T071431Z
LAST-MODIFIED:20250818T071433Z
UID:14366-1757961000-1757964600@sihltalersportclub.ch
SUMMARY:Ganzkörper-Training
DESCRIPTION:Trainingsleitung: Simone Küttel (trotz Knabenschiessen)
URL:https://sihltalersportclub.ch/trainings-news/ganzkoerper-training-33/
END:VEVENT
BEGIN:VEVENT
DTSTART;TZID=Europe/Zurich:20250917T000000
DTEND;TZID=Europe/Zurich:20250917T235959
DTSTAMP:20260421T011350
CREATED:20250106T102945Z
LAST-MODIFIED:20250205T162436Z
UID:12311-1758067200-1758153599@sihltalersportclub.ch
SUMMARY:Sportlicher Auftakt zum SSC-Jubiläums-Fest
DESCRIPTION:
URL:https://sihltalersportclub.ch/trainings-news/sportlicher-auftakt-zum-ssc-jubilaeums-fest/
END:VEVENT
BEGIN:VEVENT
DTSTART;TZID=Europe/Zurich:20250920T000000
DTEND;TZID=Europe/Zurich:20250920T235959
DTSTAMP:20260421T011350
CREATED:20250106T103113Z
LAST-MODIFIED:20250205T162632Z
UID:12314-1758326400-1758412799@sihltalersportclub.ch
SUMMARY:Jubiläums-Party SSC-Jubiläums-Fest
DESCRIPTION:
URL:https://sihltalersportclub.ch/trainings-news/jubilaeums-party-ssc-jubilaeums-fest/
END:VEVENT
BEGIN:VEVENT
DTSTART;TZID=Europe/Zurich:20250922T183000
DTEND;TZID=Europe/Zurich:20250922T193000
DTSTAMP:20260421T011350
CREATED:20250818T071542Z
LAST-MODIFIED:20250818T071544Z
UID:14368-1758565800-1758569400@sihltalersportclub.ch
SUMMARY:Ganzkörper-Training
DESCRIPTION:Trainingsleitung: Anita Meyer
URL:https://sihltalersportclub.ch/trainings-news/ganzkoerper-training-34/
END:VEVENT
BEGIN:VEVENT
DTSTART;TZID=Europe/Zurich:20250929T183000
DTEND;TZID=Europe/Zurich:20250929T193000
DTSTAMP:20260421T011350
CREATED:20250818T071744Z
LAST-MODIFIED:20250818T071746Z
UID:14370-1759170600-1759174200@sihltalersportclub.ch
SUMMARY:Ganzkörper-Training
DESCRIPTION:Trainingsleitung: Simone Küttel
URL:https://sihltalersportclub.ch/trainings-news/ganzkoerper-training-35/
END:VEVENT
END:VCALENDAR