BEGIN:VCALENDAR
VERSION:2.0
PRODID:-//Sihltaler Sportclub - ECPv6.15.20//NONSGML v1.0//EN
CALSCALE:GREGORIAN
METHOD:PUBLISH
X-ORIGINAL-URL:https://sihltalersportclub.ch
X-WR-CALDESC:Veranstaltungen für Sihltaler Sportclub
REFRESH-INTERVAL;VALUE=DURATION:PT1H
X-Robots-Tag:noindex
X-PUBLISHED-TTL:PT1H
BEGIN:VTIMEZONE
TZID:Europe/Zurich
BEGIN:DAYLIGHT
TZOFFSETFROM:+0100
TZOFFSETTO:+0200
TZNAME:CEST
DTSTART:20240331T010000
END:DAYLIGHT
BEGIN:STANDARD
TZOFFSETFROM:+0200
TZOFFSETTO:+0100
TZNAME:CET
DTSTART:20241027T010000
END:STANDARD
BEGIN:DAYLIGHT
TZOFFSETFROM:+0100
TZOFFSETTO:+0200
TZNAME:CEST
DTSTART:20250330T010000
END:DAYLIGHT
BEGIN:STANDARD
TZOFFSETFROM:+0200
TZOFFSETTO:+0100
TZNAME:CET
DTSTART:20251026T010000
END:STANDARD
BEGIN:DAYLIGHT
TZOFFSETFROM:+0100
TZOFFSETTO:+0200
TZNAME:CEST
DTSTART:20260329T010000
END:DAYLIGHT
BEGIN:STANDARD
TZOFFSETFROM:+0200
TZOFFSETTO:+0100
TZNAME:CET
DTSTART:20261025T010000
END:STANDARD
END:VTIMEZONE
BEGIN:VEVENT
DTSTART;TZID=Europe/Zurich:20250501T000000
DTEND;TZID=Europe/Zurich:20250501T235959
DTSTAMP:20260421T081802
CREATED:20250106T101153Z
LAST-MODIFIED:20250106T101155Z
UID:12303-1746057600-1746143999@sihltalersportclub.ch
SUMMARY:23. Sihltaler Frühlingslauf
DESCRIPTION:An unserem Lauf sind wir hauptsächlich als Helferinnen und Helfer im Einsatz. Weitere Informationen folgen!
URL:https://sihltalersportclub.ch/trainings-news/23-sihltaler-fruehlingslauf/
END:VEVENT
BEGIN:VEVENT
DTSTART;TZID=Europe/Zurich:20250505T183000
DTEND;TZID=Europe/Zurich:20250505T193000
DTSTAMP:20260421T081802
CREATED:20240930T125153Z
LAST-MODIFIED:20240930T125154Z
UID:11831-1746469800-1746473400@sihltalersportclub.ch
SUMMARY:Ganzkörper-Training
DESCRIPTION:Trainingsleitung: Anita Meyer
URL:https://sihltalersportclub.ch/trainings-news/ganzkoerper-training-26/
END:VEVENT
BEGIN:VEVENT
DTSTART;TZID=Europe/Zurich:20250510T000000
DTEND;TZID=Europe/Zurich:20250510T235959
DTSTAMP:20260421T081802
CREATED:20241226T152321Z
LAST-MODIFIED:20241226T152453Z
UID:12205-1746835200-1746921599@sihltalersportclub.ch
SUMMARY:GP Bern
DESCRIPTION:2. Gemeinsame Laufveranstaltung 2025
URL:https://sihltalersportclub.ch/trainings-news/gp-bern/
END:VEVENT
BEGIN:VEVENT
DTSTART;TZID=Europe/Zurich:20250512T183000
DTEND;TZID=Europe/Zurich:20250512T193000
DTSTAMP:20260421T081802
CREATED:20240930T125246Z
LAST-MODIFIED:20240930T125247Z
UID:11833-1747074600-1747078200@sihltalersportclub.ch
SUMMARY:Ganzkörper-Training
DESCRIPTION:Trainingsleitung: Simone Küttel
URL:https://sihltalersportclub.ch/trainings-news/ganzkoerper-training-27/
END:VEVENT
BEGIN:VEVENT
DTSTART;TZID=Europe/Zurich:20250516T080000
DTEND;TZID=Europe/Zurich:20250520T170000
DTSTAMP:20260421T081802
CREATED:20250106T101516Z
LAST-MODIFIED:20250106T101518Z
UID:12306-1747382400-1747760400@sihltalersportclub.ch
SUMMARY:SSC-Laufreise nach Radenci (Slowenien)
DESCRIPTION:
URL:https://sihltalersportclub.ch/trainings-news/ssc-laufreise-nach-radenci-slowenien/
END:VEVENT
BEGIN:VEVENT
DTSTART;TZID=Europe/Zurich:20250519T183000
DTEND;TZID=Europe/Zurich:20250519T193000
DTSTAMP:20260421T081802
CREATED:20240930T125412Z
LAST-MODIFIED:20250515T144545Z
UID:11835-1747679400-1747683000@sihltalersportclub.ch
SUMMARY:Ganzkörper-Training
DESCRIPTION:Trainingsleitung: Britta Zazar
URL:https://sihltalersportclub.ch/trainings-news/ganzkoerper-training-28/
END:VEVENT
BEGIN:VEVENT
DTSTART;TZID=Europe/Zurich:20250525T000000
DTEND;TZID=Europe/Zurich:20250525T235959
DTSTAMP:20260421T081802
CREATED:20241226T152654Z
LAST-MODIFIED:20241226T152655Z
UID:12208-1748131200-1748217599@sihltalersportclub.ch
SUMMARY:GP Winterthur
DESCRIPTION:3. Gemeinsame Laufveranstaltung 2025
URL:https://sihltalersportclub.ch/trainings-news/gp-winterthur/
END:VEVENT
BEGIN:VEVENT
DTSTART;TZID=Europe/Zurich:20250526T183000
DTEND;TZID=Europe/Zurich:20250526T193000
DTSTAMP:20260421T081802
CREATED:20240930T125528Z
LAST-MODIFIED:20250515T145109Z
UID:11837-1748284200-1748287800@sihltalersportclub.ch
SUMMARY:Letztes Ganzkörper-Training vor Ferien
DESCRIPTION:Trainingsleitung: Anita Meyer
URL:https://sihltalersportclub.ch/trainings-news/ganzkoerper-training-29/
END:VEVENT
END:VCALENDAR