BEGIN:VCALENDAR
VERSION:2.0
PRODID:-//Sihltaler Sportclub - ECPv6.15.20//NONSGML v1.0//EN
CALSCALE:GREGORIAN
METHOD:PUBLISH
X-WR-CALNAME:Sihltaler Sportclub
X-ORIGINAL-URL:https://sihltalersportclub.ch
X-WR-CALDESC:Veranstaltungen für Sihltaler Sportclub
REFRESH-INTERVAL;VALUE=DURATION:PT1H
X-Robots-Tag:noindex
X-PUBLISHED-TTL:PT1H
BEGIN:VTIMEZONE
TZID:Europe/Zurich
BEGIN:DAYLIGHT
TZOFFSETFROM:+0100
TZOFFSETTO:+0200
TZNAME:CEST
DTSTART:20240331T010000
END:DAYLIGHT
BEGIN:STANDARD
TZOFFSETFROM:+0200
TZOFFSETTO:+0100
TZNAME:CET
DTSTART:20241027T010000
END:STANDARD
BEGIN:DAYLIGHT
TZOFFSETFROM:+0100
TZOFFSETTO:+0200
TZNAME:CEST
DTSTART:20250330T010000
END:DAYLIGHT
BEGIN:STANDARD
TZOFFSETFROM:+0200
TZOFFSETTO:+0100
TZNAME:CET
DTSTART:20251026T010000
END:STANDARD
BEGIN:DAYLIGHT
TZOFFSETFROM:+0100
TZOFFSETTO:+0200
TZNAME:CEST
DTSTART:20260329T010000
END:DAYLIGHT
BEGIN:STANDARD
TZOFFSETFROM:+0200
TZOFFSETTO:+0100
TZNAME:CET
DTSTART:20261025T010000
END:STANDARD
END:VTIMEZONE
BEGIN:VEVENT
DTSTART;TZID=Europe/Zurich:20250401T180000
DTEND;TZID=Europe/Zurich:20250401T200000
DTSTAMP:20260421T101658
CREATED:20250312T213415Z
LAST-MODIFIED:20250312T213808Z
UID:12949-1743530400-1743537600@sihltalersportclub.ch
SUMMARY:Biken 2
DESCRIPTION:Die Biker der Gruppe 2 starten  am 1. April 2025 um 18.00 beim Hallenbad Schweikrüti. Ab Mai bis September ist der Start 18:30 Uhr. Letzte Ausfahrt 21. Oktober.
URL:https://sihltalersportclub.ch/trainings-news/biken-2/
END:VEVENT
BEGIN:VEVENT
DTSTART;TZID=Europe/Zurich:20250401T183000
DTEND;TZID=Europe/Zurich:20250401T200000
DTSTAMP:20260421T101658
CREATED:20250312T212941Z
LAST-MODIFIED:20250312T212942Z
UID:12945-1743532200-1743537600@sihltalersportclub.ch
SUMMARY:Biken 1
DESCRIPTION:Die Biker der Gruppe 1 starten  am 1. April 2025 jeweils um 18.30 beim Hallenbad Schweikrüti die ganze Saison. Letzte Ausfahrt 21. Oktober.
URL:https://sihltalersportclub.ch/trainings-news/biken-1/
END:VEVENT
BEGIN:VEVENT
DTSTART;TZID=Europe/Zurich:20250403T190000
DTEND;TZID=Europe/Zurich:20250403T200000
DTSTAMP:20260421T101658
CREATED:20240916T094652Z
LAST-MODIFIED:20240916T094653Z
UID:11769-1743706800-1743710400@sihltalersportclub.ch
SUMMARY:Body-Toning
DESCRIPTION:Trainingsleitung: Tina Inglin
URL:https://sihltalersportclub.ch/trainings-news/body-toning-20/
END:VEVENT
BEGIN:VEVENT
DTSTART;TZID=Europe/Zurich:20250407T183000
DTEND;TZID=Europe/Zurich:20250407T193000
DTSTAMP:20260421T101658
CREATED:20240930T124739Z
LAST-MODIFIED:20240930T124741Z
UID:11823-1744050600-1744054200@sihltalersportclub.ch
SUMMARY:Ganzkörper-Training
DESCRIPTION:Trainingsleitung: Anita Meyer
URL:https://sihltalersportclub.ch/trainings-news/ganzkoerper-training-24/
END:VEVENT
BEGIN:VEVENT
DTSTART;TZID=Europe/Zurich:20250410T190000
DTEND;TZID=Europe/Zurich:20250410T200000
DTSTAMP:20260421T101658
CREATED:20240916T094756Z
LAST-MODIFIED:20240916T094757Z
UID:11771-1744311600-1744315200@sihltalersportclub.ch
SUMMARY:Body-Toning
DESCRIPTION:Trainingsleitung: Christine Chapman
URL:https://sihltalersportclub.ch/trainings-news/body-toning-21/
END:VEVENT
BEGIN:VEVENT
DTSTART;TZID=Europe/Zurich:20250414T183000
DTEND;TZID=Europe/Zurich:20250414T193000
DTSTAMP:20260421T101658
CREATED:20240930T124836Z
LAST-MODIFIED:20240930T124837Z
UID:11825-1744655400-1744659000@sihltalersportclub.ch
SUMMARY:Ganzkörper-Training
DESCRIPTION:Trainingsleitung: Simone Küttel
URL:https://sihltalersportclub.ch/trainings-news/ganzkoerper-training-25/
END:VEVENT
BEGIN:VEVENT
DTSTART;TZID=Europe/Zurich:20250417T000000
DTEND;TZID=Europe/Zurich:20250417T235959
DTSTAMP:20260421T101658
CREATED:20240916T095202Z
LAST-MODIFIED:20240916T095203Z
UID:11773-1744848000-1744934399@sihltalersportclub.ch
SUMMARY:Kein Training (Frühlingsferien)
DESCRIPTION:
URL:https://sihltalersportclub.ch/trainings-news/kein-training-fruehlingsferien/
END:VEVENT
BEGIN:VEVENT
DTSTART;TZID=Europe/Zurich:20250417T183000
DTEND;TZID=Europe/Zurich:20250417T200000
DTSTAMP:20260421T101658
CREATED:20250223T115454Z
LAST-MODIFIED:20250312T214701Z
UID:12857-1744914600-1744920000@sihltalersportclub.ch
SUMMARY:Donnerstagabend Rennvelo Ausfahrt
DESCRIPTION:Jeden Donnerstagabend geführte Rennradausfahrten vom 17. April bis 25. September 2025 bei trockenen Strassenverhältnissen. Start jeweils 18.30 Uhr\, Treffpunkt Bahnhof Langnau oder Sportanlage Brand; gemäss Ansage im Chat.
URL:https://sihltalersportclub.ch/trainings-news/donnerstagabend-rennvelo-ausfahrt/
END:VEVENT
BEGIN:VEVENT
DTSTART;TZID=Europe/Zurich:20250420T000000
DTEND;TZID=Europe/Zurich:20250420T235959
DTSTAMP:20260421T101658
CREATED:20250119T143136Z
LAST-MODIFIED:20250119T143137Z
UID:12590-1745107200-1745193599@sihltalersportclub.ch
SUMMARY:Redaktionsschluss SSC-Heft 2/2025
DESCRIPTION:
URL:https://sihltalersportclub.ch/trainings-news/redaktionsschluss-ssc-heft-2-2025/
END:VEVENT
BEGIN:VEVENT
DTSTART;TZID=Europe/Zurich:20250421T000000
DTEND;TZID=Europe/Zurich:20250421T235959
DTSTAMP:20260421T101658
CREATED:20240930T124941Z
LAST-MODIFIED:20240930T124943Z
UID:11827-1745193600-1745279999@sihltalersportclub.ch
SUMMARY:Kein Training (Frühlingsferien)
DESCRIPTION:
URL:https://sihltalersportclub.ch/trainings-news/kein-training-fruehlingsferien-3/
END:VEVENT
BEGIN:VEVENT
DTSTART;TZID=Europe/Zurich:20250424T000000
DTEND;TZID=Europe/Zurich:20250424T235959
DTSTAMP:20260421T101658
CREATED:20240916T095645Z
LAST-MODIFIED:20240916T095647Z
UID:11775-1745452800-1745539199@sihltalersportclub.ch
SUMMARY:Kein Training (Frühlingsferien)
DESCRIPTION:
URL:https://sihltalersportclub.ch/trainings-news/kein-training-fruehlingsferien-2/
END:VEVENT
BEGIN:VEVENT
DTSTART;TZID=Europe/Zurich:20250427T000000
DTEND;TZID=Europe/Zurich:20250427T235959
DTSTAMP:20260421T101658
CREATED:20240930T125041Z
LAST-MODIFIED:20240930T125042Z
UID:11829-1745712000-1745798399@sihltalersportclub.ch
SUMMARY:Kein Training (Frühlingsferien)
DESCRIPTION:
URL:https://sihltalersportclub.ch/trainings-news/kein-training-fruehlingsferien-4/
END:VEVENT
BEGIN:VEVENT
DTSTART;TZID=Europe/Zurich:20250428T000000
DTEND;TZID=Europe/Zurich:20250428T235959
DTSTAMP:20260421T101658
CREATED:20240930T125703Z
LAST-MODIFIED:20240930T125705Z
UID:11839-1745798400-1745884799@sihltalersportclub.ch
SUMMARY:Kein Training (Frühlingsferien)
DESCRIPTION:
URL:https://sihltalersportclub.ch/trainings-news/kein-training-fruehlingsferien-5/
END:VEVENT
END:VCALENDAR