BEGIN:VCALENDAR
VERSION:2.0
PRODID:-//Sihltaler Sportclub - ECPv6.15.20//NONSGML v1.0//EN
CALSCALE:GREGORIAN
METHOD:PUBLISH
X-ORIGINAL-URL:https://sihltalersportclub.ch
X-WR-CALDESC:Veranstaltungen für Sihltaler Sportclub
REFRESH-INTERVAL;VALUE=DURATION:PT1H
X-Robots-Tag:noindex
X-PUBLISHED-TTL:PT1H
BEGIN:VTIMEZONE
TZID:Europe/Zurich
BEGIN:DAYLIGHT
TZOFFSETFROM:+0100
TZOFFSETTO:+0200
TZNAME:CEST
DTSTART:20240331T010000
END:DAYLIGHT
BEGIN:STANDARD
TZOFFSETFROM:+0200
TZOFFSETTO:+0100
TZNAME:CET
DTSTART:20241027T010000
END:STANDARD
BEGIN:DAYLIGHT
TZOFFSETFROM:+0100
TZOFFSETTO:+0200
TZNAME:CEST
DTSTART:20250330T010000
END:DAYLIGHT
BEGIN:STANDARD
TZOFFSETFROM:+0200
TZOFFSETTO:+0100
TZNAME:CET
DTSTART:20251026T010000
END:STANDARD
BEGIN:DAYLIGHT
TZOFFSETFROM:+0100
TZOFFSETTO:+0200
TZNAME:CEST
DTSTART:20260329T010000
END:DAYLIGHT
BEGIN:STANDARD
TZOFFSETFROM:+0200
TZOFFSETTO:+0100
TZNAME:CET
DTSTART:20261025T010000
END:STANDARD
END:VTIMEZONE
BEGIN:VEVENT
DTSTART;TZID=Europe/Zurich:20250303T183000
DTEND;TZID=Europe/Zurich:20250303T193000
DTSTAMP:20260421T121641
CREATED:20240930T124135Z
LAST-MODIFIED:20240930T124137Z
UID:11813-1741026600-1741030200@sihltalersportclub.ch
SUMMARY:Ganzkörper-Training
DESCRIPTION:Trainingsleitung: Simone Küttel
URL:https://sihltalersportclub.ch/trainings-news/ganzkoerper-training-19/
END:VEVENT
BEGIN:VEVENT
DTSTART;TZID=Europe/Zurich:20250306T190000
DTEND;TZID=Europe/Zurich:20250306T200000
DTSTAMP:20260421T121641
CREATED:20240916T094219Z
LAST-MODIFIED:20240916T094221Z
UID:11761-1741287600-1741291200@sihltalersportclub.ch
SUMMARY:Body-Toning
DESCRIPTION:Trainingsleitung: Tina Inglin
URL:https://sihltalersportclub.ch/trainings-news/body-toning-16/
END:VEVENT
BEGIN:VEVENT
DTSTART;TZID=Europe/Zurich:20250310T183000
DTEND;TZID=Europe/Zurich:20250310T193000
DTSTAMP:20260421T121641
CREATED:20240930T124245Z
LAST-MODIFIED:20240930T124247Z
UID:11815-1741631400-1741635000@sihltalersportclub.ch
SUMMARY:Ganzkörper-Training
DESCRIPTION:Trainingsleitung: Anita Meyer
URL:https://sihltalersportclub.ch/trainings-news/ganzkoerper-training-20/
END:VEVENT
BEGIN:VEVENT
DTSTART;TZID=Europe/Zurich:20250313T190000
DTEND;TZID=Europe/Zurich:20250313T200000
DTSTAMP:20260421T121641
CREATED:20240916T094326Z
LAST-MODIFIED:20240916T094327Z
UID:11763-1741892400-1741896000@sihltalersportclub.ch
SUMMARY:Body-Toning
DESCRIPTION:Trainingsleitung: Christine Chapman
URL:https://sihltalersportclub.ch/trainings-news/body-toning-17/
END:VEVENT
BEGIN:VEVENT
DTSTART;TZID=Europe/Zurich:20250317T183000
DTEND;TZID=Europe/Zurich:20250317T193000
DTSTAMP:20260421T121641
CREATED:20240930T124405Z
LAST-MODIFIED:20240930T124407Z
UID:11817-1742236200-1742239800@sihltalersportclub.ch
SUMMARY:Ganzkörper-Training
DESCRIPTION:Trainingsleitung: Anita Meyer
URL:https://sihltalersportclub.ch/trainings-news/ganzkoerper-training-21/
END:VEVENT
BEGIN:VEVENT
DTSTART;TZID=Europe/Zurich:20250320T190000
DTEND;TZID=Europe/Zurich:20250320T200000
DTSTAMP:20260421T121641
CREATED:20240916T094426Z
LAST-MODIFIED:20240916T094427Z
UID:11765-1742497200-1742500800@sihltalersportclub.ch
SUMMARY:Body-Toning
DESCRIPTION:Trainingsleitung: Tina Inglin
URL:https://sihltalersportclub.ch/trainings-news/body-toning-18/
END:VEVENT
BEGIN:VEVENT
DTSTART;TZID=Europe/Zurich:20250324T183000
DTEND;TZID=Europe/Zurich:20250324T193000
DTSTAMP:20260421T121641
CREATED:20240930T124505Z
LAST-MODIFIED:20240930T124507Z
UID:11819-1742841000-1742844600@sihltalersportclub.ch
SUMMARY:Ganzkörper-Training
DESCRIPTION:Trainingsleitung: Simone Küttel
URL:https://sihltalersportclub.ch/trainings-news/ganzkoerper-training-22/
END:VEVENT
BEGIN:VEVENT
DTSTART;TZID=Europe/Zurich:20250327T190000
DTEND;TZID=Europe/Zurich:20250327T200000
DTSTAMP:20260421T121641
CREATED:20240916T094532Z
LAST-MODIFIED:20240916T094533Z
UID:11767-1743102000-1743105600@sihltalersportclub.ch
SUMMARY:Body-Toning
DESCRIPTION:Trainingsleitung: Britta Zazar
URL:https://sihltalersportclub.ch/trainings-news/body-toning-19/
END:VEVENT
BEGIN:VEVENT
DTSTART;TZID=Europe/Zurich:20250331T183000
DTEND;TZID=Europe/Zurich:20250331T193000
DTSTAMP:20260421T121641
CREATED:20240930T124611Z
LAST-MODIFIED:20240930T124612Z
UID:11821-1743445800-1743449400@sihltalersportclub.ch
SUMMARY:Ganzkörper-Training
DESCRIPTION:Trainingsleitung: Simone Küttel
URL:https://sihltalersportclub.ch/trainings-news/ganzkoerper-training-23/
END:VEVENT
END:VCALENDAR