BEGIN:VCALENDAR
VERSION:2.0
PRODID:-//Sihltaler Sportclub - ECPv6.15.20//NONSGML v1.0//EN
CALSCALE:GREGORIAN
METHOD:PUBLISH
X-ORIGINAL-URL:https://sihltalersportclub.ch
X-WR-CALDESC:Veranstaltungen für Sihltaler Sportclub
REFRESH-INTERVAL;VALUE=DURATION:PT1H
X-Robots-Tag:noindex
X-PUBLISHED-TTL:PT1H
BEGIN:VTIMEZONE
TZID:Europe/Zurich
BEGIN:DAYLIGHT
TZOFFSETFROM:+0100
TZOFFSETTO:+0200
TZNAME:CEST
DTSTART:20240331T010000
END:DAYLIGHT
BEGIN:STANDARD
TZOFFSETFROM:+0200
TZOFFSETTO:+0100
TZNAME:CET
DTSTART:20241027T010000
END:STANDARD
BEGIN:DAYLIGHT
TZOFFSETFROM:+0100
TZOFFSETTO:+0200
TZNAME:CEST
DTSTART:20250330T010000
END:DAYLIGHT
BEGIN:STANDARD
TZOFFSETFROM:+0200
TZOFFSETTO:+0100
TZNAME:CET
DTSTART:20251026T010000
END:STANDARD
BEGIN:DAYLIGHT
TZOFFSETFROM:+0100
TZOFFSETTO:+0200
TZNAME:CEST
DTSTART:20260329T010000
END:DAYLIGHT
BEGIN:STANDARD
TZOFFSETFROM:+0200
TZOFFSETTO:+0100
TZNAME:CET
DTSTART:20261025T010000
END:STANDARD
END:VTIMEZONE
BEGIN:VEVENT
DTSTART;TZID=Europe/Zurich:20250102T000000
DTEND;TZID=Europe/Zurich:20250102T235959
DTSTAMP:20260425T160725
CREATED:20240916T092910Z
LAST-MODIFIED:20240916T092911Z
UID:11739-1735776000-1735862399@sihltalersportclub.ch
SUMMARY:Kein Training (Berchtoldstag)
DESCRIPTION:
URL:https://sihltalersportclub.ch/trainings-news/kein-training-berchtoldstag/
END:VEVENT
BEGIN:VEVENT
DTSTART;TZID=Europe/Zurich:20250106T183000
DTEND;TZID=Europe/Zurich:20250106T193000
DTSTAMP:20260425T160725
CREATED:20241002T161720Z
LAST-MODIFIED:20241002T161722Z
UID:11871-1736188200-1736191800@sihltalersportclub.ch
SUMMARY:Ganzkörper-Training
DESCRIPTION:Trainingsleitung: Simone Küttel
URL:https://sihltalersportclub.ch/trainings-news/ganzkoerper-training-30/
END:VEVENT
BEGIN:VEVENT
DTSTART;TZID=Europe/Zurich:20250108T000000
DTEND;TZID=Europe/Zurich:20250108T235959
DTSTAMP:20260425T160725
CREATED:20240930T121939Z
LAST-MODIFIED:20250106T100541Z
UID:11799-1736294400-1736380799@sihltalersportclub.ch
SUMMARY:SSC-Neujahrs-Apéro
DESCRIPTION:Der traditionelle Neujahrs-Apéro findet wie üblich wieder im Foyer der Schwerzi statt.
URL:https://sihltalersportclub.ch/trainings-news/ssc-neujahrs-apero/
END:VEVENT
BEGIN:VEVENT
DTSTART;TZID=Europe/Zurich:20250109T190000
DTEND;TZID=Europe/Zurich:20250109T200000
DTSTAMP:20260425T160725
CREATED:20240916T100046Z
LAST-MODIFIED:20240916T100047Z
UID:11779-1736449200-1736452800@sihltalersportclub.ch
SUMMARY:Body-Toning
DESCRIPTION:Trainingsleitung: Christine Chapman
URL:https://sihltalersportclub.ch/trainings-news/body-toning-23/
END:VEVENT
BEGIN:VEVENT
DTSTART;TZID=Europe/Zurich:20250113T183000
DTEND;TZID=Europe/Zurich:20250113T193000
DTSTAMP:20260425T160725
CREATED:20240930T123202Z
LAST-MODIFIED:20240930T123203Z
UID:11803-1736793000-1736796600@sihltalersportclub.ch
SUMMARY:Ganzkörper-Training
DESCRIPTION:Trainingsleitung: Anita Meyer
URL:https://sihltalersportclub.ch/trainings-news/ganzkoerper-training-14/
END:VEVENT
BEGIN:VEVENT
DTSTART;TZID=Europe/Zurich:20250116T190000
DTEND;TZID=Europe/Zurich:20250116T200000
DTSTAMP:20260425T160725
CREATED:20240916T095919Z
LAST-MODIFIED:20240916T095921Z
UID:11777-1737054000-1737057600@sihltalersportclub.ch
SUMMARY:Body-Toning
DESCRIPTION:Trainingsleitung: Britta Zazar
URL:https://sihltalersportclub.ch/trainings-news/body-toning-22/
END:VEVENT
BEGIN:VEVENT
DTSTART;TZID=Europe/Zurich:20250120T183000
DTEND;TZID=Europe/Zurich:20250120T193000
DTSTAMP:20260425T160725
CREATED:20240930T123328Z
LAST-MODIFIED:20240930T123329Z
UID:11805-1737397800-1737401400@sihltalersportclub.ch
SUMMARY:Ganzkörper-Training
DESCRIPTION:Trainingsleitung: Simone Küttel
URL:https://sihltalersportclub.ch/trainings-news/ganzkoerper-training-15/
END:VEVENT
BEGIN:VEVENT
DTSTART;TZID=Europe/Zurich:20250123T190000
DTEND;TZID=Europe/Zurich:20250123T200000
DTSTAMP:20260425T160725
CREATED:20240916T093217Z
LAST-MODIFIED:20240916T093218Z
UID:11745-1737658800-1737662400@sihltalersportclub.ch
SUMMARY:Body-Toning
DESCRIPTION:Trainingsleitung: Christine Chapman
URL:https://sihltalersportclub.ch/trainings-news/body-toning-12/
END:VEVENT
BEGIN:VEVENT
DTSTART;TZID=Europe/Zurich:20250126T000000
DTEND;TZID=Europe/Zurich:20250126T235959
DTSTAMP:20260425T160725
CREATED:20240930T122254Z
LAST-MODIFIED:20241226T151937Z
UID:11801-1737849600-1737935999@sihltalersportclub.ch
SUMMARY:Reppischtallauf
DESCRIPTION:Gemeinsame Laufveranstaltung 2025
URL:https://sihltalersportclub.ch/trainings-news/reppischtallauf/
END:VEVENT
BEGIN:VEVENT
DTSTART;TZID=Europe/Zurich:20250127T183000
DTEND;TZID=Europe/Zurich:20250127T193000
DTSTAMP:20260425T160725
CREATED:20240930T123431Z
LAST-MODIFIED:20240930T123432Z
UID:11807-1738002600-1738006200@sihltalersportclub.ch
SUMMARY:Ganzkörper-Training
DESCRIPTION:Trainingsleitung: Anita Meyer
URL:https://sihltalersportclub.ch/trainings-news/ganzkoerper-training-16/
END:VEVENT
BEGIN:VEVENT
DTSTART;TZID=Europe/Zurich:20250130T190000
DTEND;TZID=Europe/Zurich:20250130T200000
DTSTAMP:20260425T160725
CREATED:20240916T093322Z
LAST-MODIFIED:20240916T093323Z
UID:11747-1738263600-1738267200@sihltalersportclub.ch
SUMMARY:Body-Toning
DESCRIPTION:Trainingsleitung: Tina Inglin
URL:https://sihltalersportclub.ch/trainings-news/body-toning-13/
END:VEVENT
END:VCALENDAR