BEGIN:VCALENDAR
VERSION:2.0
PRODID:-//Sihltaler Sportclub - ECPv6.15.20//NONSGML v1.0//EN
CALSCALE:GREGORIAN
METHOD:PUBLISH
X-ORIGINAL-URL:https://sihltalersportclub.ch
X-WR-CALDESC:Veranstaltungen für Sihltaler Sportclub
REFRESH-INTERVAL;VALUE=DURATION:PT1H
X-Robots-Tag:noindex
X-PUBLISHED-TTL:PT1H
BEGIN:VTIMEZONE
TZID:Europe/Zurich
BEGIN:DAYLIGHT
TZOFFSETFROM:+0100
TZOFFSETTO:+0200
TZNAME:CEST
DTSTART:20230326T010000
END:DAYLIGHT
BEGIN:STANDARD
TZOFFSETFROM:+0200
TZOFFSETTO:+0100
TZNAME:CET
DTSTART:20231029T010000
END:STANDARD
BEGIN:DAYLIGHT
TZOFFSETFROM:+0100
TZOFFSETTO:+0200
TZNAME:CEST
DTSTART:20240331T010000
END:DAYLIGHT
BEGIN:STANDARD
TZOFFSETFROM:+0200
TZOFFSETTO:+0100
TZNAME:CET
DTSTART:20241027T010000
END:STANDARD
BEGIN:DAYLIGHT
TZOFFSETFROM:+0100
TZOFFSETTO:+0200
TZNAME:CEST
DTSTART:20250330T010000
END:DAYLIGHT
BEGIN:STANDARD
TZOFFSETFROM:+0200
TZOFFSETTO:+0100
TZNAME:CET
DTSTART:20251026T010000
END:STANDARD
END:VTIMEZONE
BEGIN:VEVENT
DTSTART;TZID=Europe/Zurich:20241202T183000
DTEND;TZID=Europe/Zurich:20241202T193000
DTSTAMP:20260425T174801
CREATED:20240829T154516Z
LAST-MODIFIED:20240829T154517Z
UID:11584-1733164200-1733167800@sihltalersportclub.ch
SUMMARY:Ganzkörper-Training
DESCRIPTION:Trainingsleitung: Anita Meyer
URL:https://sihltalersportclub.ch/trainings-news/ganzkoerper-training-11/
END:VEVENT
BEGIN:VEVENT
DTSTART;TZID=Europe/Zurich:20241205T190000
DTEND;TZID=Europe/Zurich:20241205T200000
DTSTAMP:20260425T174801
CREATED:20240916T092111Z
LAST-MODIFIED:20240916T092112Z
UID:11731-1733425200-1733428800@sihltalersportclub.ch
SUMMARY:Body-Toning
DESCRIPTION:Trainingsleitung: Christine Chapman
URL:https://sihltalersportclub.ch/trainings-news/body-toning-7/
END:VEVENT
BEGIN:VEVENT
DTSTART;TZID=Europe/Zurich:20241209T183000
DTEND;TZID=Europe/Zurich:20241209T193000
DTSTAMP:20260425T174801
CREATED:20240829T155003Z
LAST-MODIFIED:20240829T155005Z
UID:11590-1733769000-1733772600@sihltalersportclub.ch
SUMMARY:Ganzkörper-Training
DESCRIPTION:Trainingsleitung: Simone Küttel
URL:https://sihltalersportclub.ch/trainings-news/ganzkoerper-training-10/
END:VEVENT
BEGIN:VEVENT
DTSTART;TZID=Europe/Zurich:20241212T190000
DTEND;TZID=Europe/Zurich:20241212T200000
DTSTAMP:20260425T174801
CREATED:20240916T092212Z
LAST-MODIFIED:20240916T092213Z
UID:11733-1734030000-1734033600@sihltalersportclub.ch
SUMMARY:Body-Toning
DESCRIPTION:Trainingsleitung: Tina Inglin
URL:https://sihltalersportclub.ch/trainings-news/body-toning-8/
END:VEVENT
BEGIN:VEVENT
DTSTART;TZID=Europe/Zurich:20241216T183000
DTEND;TZID=Europe/Zurich:20241216T193000
DTSTAMP:20260425T174801
CREATED:20240829T154913Z
LAST-MODIFIED:20240829T154914Z
UID:11588-1734373800-1734377400@sihltalersportclub.ch
SUMMARY:Ganzkörper-Training
DESCRIPTION:Trainingsleitung: Anita Meyer
URL:https://sihltalersportclub.ch/trainings-news/ganzkoerper-training-8/
END:VEVENT
BEGIN:VEVENT
DTSTART;TZID=Europe/Zurich:20241219T190000
DTEND;TZID=Europe/Zurich:20241219T200000
DTSTAMP:20260425T174801
CREATED:20240916T092338Z
LAST-MODIFIED:20240916T092339Z
UID:11735-1734634800-1734638400@sihltalersportclub.ch
SUMMARY:Body-Toning
DESCRIPTION:Trainingsleitung: Britta Zazar
URL:https://sihltalersportclub.ch/trainings-news/body-toning-9/
END:VEVENT
BEGIN:VEVENT
DTSTART;TZID=Europe/Zurich:20241223T000000
DTEND;TZID=Europe/Zurich:20241223T235959
DTSTAMP:20260425T174801
CREATED:20240829T155232Z
LAST-MODIFIED:20240829T155233Z
UID:11592-1734912000-1734998399@sihltalersportclub.ch
SUMMARY:Kein Training (Weihnachtsferien)
DESCRIPTION:
URL:https://sihltalersportclub.ch/trainings-news/kein-training-weihnachtsferien/
END:VEVENT
BEGIN:VEVENT
DTSTART;TZID=Europe/Zurich:20241226T000000
DTEND;TZID=Europe/Zurich:20241226T235959
DTSTAMP:20260425T174801
CREATED:20240916T092429Z
LAST-MODIFIED:20240916T092430Z
UID:11737-1735171200-1735257599@sihltalersportclub.ch
SUMMARY:Kein Training (Weihnachtsferien)
DESCRIPTION:
URL:https://sihltalersportclub.ch/trainings-news/kein-training-weihnachtsferien-3/
END:VEVENT
BEGIN:VEVENT
DTSTART;TZID=Europe/Zurich:20241230T000000
DTEND;TZID=Europe/Zurich:20241230T235959
DTSTAMP:20260425T174801
CREATED:20240829T155323Z
LAST-MODIFIED:20240829T155324Z
UID:11594-1735516800-1735603199@sihltalersportclub.ch
SUMMARY:Kein Training (Weihnachtsferien)
DESCRIPTION:
URL:https://sihltalersportclub.ch/trainings-news/kein-training-weihnachtsferien-2/
END:VEVENT
END:VCALENDAR