BEGIN:VCALENDAR
VERSION:2.0
PRODID:-//Sihltaler Sportclub - ECPv6.15.20//NONSGML v1.0//EN
CALSCALE:GREGORIAN
METHOD:PUBLISH
X-WR-CALNAME:Sihltaler Sportclub
X-ORIGINAL-URL:https://sihltalersportclub.ch
X-WR-CALDESC:Veranstaltungen für Sihltaler Sportclub
REFRESH-INTERVAL;VALUE=DURATION:PT1H
X-Robots-Tag:noindex
X-PUBLISHED-TTL:PT1H
BEGIN:VTIMEZONE
TZID:Europe/Zurich
BEGIN:DAYLIGHT
TZOFFSETFROM:+0100
TZOFFSETTO:+0200
TZNAME:CEST
DTSTART:20230326T010000
END:DAYLIGHT
BEGIN:STANDARD
TZOFFSETFROM:+0200
TZOFFSETTO:+0100
TZNAME:CET
DTSTART:20231029T010000
END:STANDARD
BEGIN:DAYLIGHT
TZOFFSETFROM:+0100
TZOFFSETTO:+0200
TZNAME:CEST
DTSTART:20240331T010000
END:DAYLIGHT
BEGIN:STANDARD
TZOFFSETFROM:+0200
TZOFFSETTO:+0100
TZNAME:CET
DTSTART:20241027T010000
END:STANDARD
BEGIN:DAYLIGHT
TZOFFSETFROM:+0100
TZOFFSETTO:+0200
TZNAME:CEST
DTSTART:20250330T010000
END:DAYLIGHT
BEGIN:STANDARD
TZOFFSETFROM:+0200
TZOFFSETTO:+0100
TZNAME:CET
DTSTART:20251026T010000
END:STANDARD
END:VTIMEZONE
BEGIN:VEVENT
DTSTART;TZID=Europe/Zurich:20241104T183000
DTEND;TZID=Europe/Zurich:20241104T193000
DTSTAMP:20260425T194350
CREATED:20240829T154154Z
LAST-MODIFIED:20240829T154155Z
UID:11578-1730745000-1730748600@sihltalersportclub.ch
SUMMARY:Ganzkörper-Training
DESCRIPTION:Trainingsleitung: Anita Meyer
URL:https://sihltalersportclub.ch/trainings-news/ganzkoerper-training-9/
END:VEVENT
BEGIN:VEVENT
DTSTART;TZID=Europe/Zurich:20241107T190000
DTEND;TZID=Europe/Zurich:20241107T200000
DTSTAMP:20260425T194350
CREATED:20240916T084422Z
LAST-MODIFIED:20240916T084657Z
UID:11723-1731006000-1731009600@sihltalersportclub.ch
SUMMARY:Body-Toning
DESCRIPTION:Trainingsleitung: Tina Inglin
URL:https://sihltalersportclub.ch/trainings-news/body-toning-3/
END:VEVENT
BEGIN:VEVENT
DTSTART;TZID=Europe/Zurich:20241108T183000
DTEND;TZID=Europe/Zurich:20241108T183000
DTSTAMP:20260425T194350
CREATED:20240829T160555Z
LAST-MODIFIED:20240830T140947Z
UID:11604-1731090600-1731090600@sihltalersportclub.ch
SUMMARY:SSC-Leiteressen
DESCRIPTION:Weitere Informationen folgen!
URL:https://sihltalersportclub.ch/trainings-news/ssc-leiteressen/
END:VEVENT
BEGIN:VEVENT
DTSTART;TZID=Europe/Zurich:20241111T183000
DTEND;TZID=Europe/Zurich:20241111T193000
DTSTAMP:20260425T194350
CREATED:20240829T153955Z
LAST-MODIFIED:20240829T153956Z
UID:11574-1731349800-1731353400@sihltalersportclub.ch
SUMMARY:Ganzkörper-Training
DESCRIPTION:Trainingsleitung: Simone Küttel
URL:https://sihltalersportclub.ch/trainings-news/ganzkoerper-training-7/
END:VEVENT
BEGIN:VEVENT
DTSTART;TZID=Europe/Zurich:20241114T190000
DTEND;TZID=Europe/Zurich:20241114T200000
DTSTAMP:20260425T194350
CREATED:20240916T085139Z
LAST-MODIFIED:20240916T085141Z
UID:11727-1731610800-1731614400@sihltalersportclub.ch
SUMMARY:Body-Toning
DESCRIPTION:Trainingsleitung: Britta Zazar
URL:https://sihltalersportclub.ch/trainings-news/body-toning-5/
END:VEVENT
BEGIN:VEVENT
DTSTART;TZID=Europe/Zurich:20241118T183000
DTEND;TZID=Europe/Zurich:20241118T193000
DTSTAMP:20260425T194350
CREATED:20240829T155551Z
LAST-MODIFIED:20240829T155551Z
UID:11598-1731954600-1731958200@sihltalersportclub.ch
SUMMARY:Ganzkörper-Training
DESCRIPTION:Trainingsleitung: Anita Meyer
URL:https://sihltalersportclub.ch/trainings-news/ganzkoerper-training-13/
END:VEVENT
BEGIN:VEVENT
DTSTART;TZID=Europe/Zurich:20241121T190000
DTEND;TZID=Europe/Zurich:20241121T200000
DTSTAMP:20260425T194350
CREATED:20240916T084911Z
LAST-MODIFIED:20241121T174045Z
UID:11725-1732215600-1732219200@sihltalersportclub.ch
SUMMARY:Body-Toning fällt heute aus! Schneefall / Strassenverhältnisse!!
DESCRIPTION:Trainingsleitung: Britta Zazar
URL:https://sihltalersportclub.ch/trainings-news/body-toning-4/
END:VEVENT
BEGIN:VEVENT
DTSTART;TZID=Europe/Zurich:20241125T183000
DTEND;TZID=Europe/Zurich:20241125T193000
DTSTAMP:20260425T194350
CREATED:20240829T155433Z
LAST-MODIFIED:20240829T155434Z
UID:11596-1732559400-1732563000@sihltalersportclub.ch
SUMMARY:Ganzkörper-Training
DESCRIPTION:Trainingsleitung: Simone Küttel
URL:https://sihltalersportclub.ch/trainings-news/ganzkoerper-training-12/
END:VEVENT
BEGIN:VEVENT
DTSTART;TZID=Europe/Zurich:20241128T190000
DTEND;TZID=Europe/Zurich:20241128T200000
DTSTAMP:20260425T194350
CREATED:20240916T085303Z
LAST-MODIFIED:20240916T085304Z
UID:11729-1732820400-1732824000@sihltalersportclub.ch
SUMMARY:Body-Toning
DESCRIPTION:Trainingsleitung: Christine Chapman
URL:https://sihltalersportclub.ch/trainings-news/body-toning-6/
END:VEVENT
END:VCALENDAR