BEGIN:VCALENDAR
VERSION:2.0
PRODID:-//Sihltaler Sportclub - ECPv6.15.20//NONSGML v1.0//EN
CALSCALE:GREGORIAN
METHOD:PUBLISH
X-WR-CALNAME:Sihltaler Sportclub
X-ORIGINAL-URL:https://sihltalersportclub.ch
X-WR-CALDESC:Veranstaltungen für Sihltaler Sportclub
REFRESH-INTERVAL;VALUE=DURATION:PT1H
X-Robots-Tag:noindex
X-PUBLISHED-TTL:PT1H
BEGIN:VTIMEZONE
TZID:Europe/Zurich
BEGIN:DAYLIGHT
TZOFFSETFROM:+0100
TZOFFSETTO:+0200
TZNAME:CEST
DTSTART:20230326T010000
END:DAYLIGHT
BEGIN:STANDARD
TZOFFSETFROM:+0200
TZOFFSETTO:+0100
TZNAME:CET
DTSTART:20231029T010000
END:STANDARD
BEGIN:DAYLIGHT
TZOFFSETFROM:+0100
TZOFFSETTO:+0200
TZNAME:CEST
DTSTART:20240331T010000
END:DAYLIGHT
BEGIN:STANDARD
TZOFFSETFROM:+0200
TZOFFSETTO:+0100
TZNAME:CET
DTSTART:20241027T010000
END:STANDARD
BEGIN:DAYLIGHT
TZOFFSETFROM:+0100
TZOFFSETTO:+0200
TZNAME:CEST
DTSTART:20250330T010000
END:DAYLIGHT
BEGIN:STANDARD
TZOFFSETFROM:+0200
TZOFFSETTO:+0100
TZNAME:CET
DTSTART:20251026T010000
END:STANDARD
END:VTIMEZONE
BEGIN:VEVENT
DTSTART;TZID=Europe/Zurich:20241003T190000
DTEND;TZID=Europe/Zurich:20241003T200000
DTSTAMP:20260425T214200
CREATED:20240916T083124Z
LAST-MODIFIED:20240917T050714Z
UID:11709-1727982000-1727985600@sihltalersportclub.ch
SUMMARY:Body-Toning
DESCRIPTION:Trainingsleitung: Christine Chapman
URL:https://sihltalersportclub.ch/trainings-news/body-toning/
END:VEVENT
BEGIN:VEVENT
DTSTART;TZID=Europe/Zurich:20241006T000000
DTEND;TZID=Europe/Zurich:20241006T235959
DTSTAMP:20260425T214200
CREATED:20240829T160025Z
LAST-MODIFIED:20240829T160026Z
UID:11600-1728172800-1728259199@sihltalersportclub.ch
SUMMARY:SSC-Velotour
DESCRIPTION:Die Ausschreibung und das Anmeldeformular findest du unter der Newsmeldung vom 9. Juni 2024
URL:https://sihltalersportclub.ch/trainings-news/ssc-velotour/
END:VEVENT
BEGIN:VEVENT
DTSTART;TZID=Europe/Zurich:20241007T000000
DTEND;TZID=Europe/Zurich:20241007T235959
DTSTAMP:20260425T214200
CREATED:20240829T152922Z
LAST-MODIFIED:20240829T153058Z
UID:11565-1728259200-1728345599@sihltalersportclub.ch
SUMMARY:Kein Training (Herbstferien)
DESCRIPTION:
URL:https://sihltalersportclub.ch/trainings-news/kein-training-herbstferien-2/
END:VEVENT
BEGIN:VEVENT
DTSTART;TZID=Europe/Zurich:20241010T000000
DTEND;TZID=Europe/Zurich:20241010T235959
DTSTAMP:20260425T214200
CREATED:20240916T083910Z
LAST-MODIFIED:20240916T083911Z
UID:11717-1728518400-1728604799@sihltalersportclub.ch
SUMMARY:Kein Training (Herbstferien)
DESCRIPTION:
URL:https://sihltalersportclub.ch/trainings-news/kein-training-herbstferien-3/
END:VEVENT
BEGIN:VEVENT
DTSTART;TZID=Europe/Zurich:20241014T000000
DTEND;TZID=Europe/Zurich:20241014T235959
DTSTAMP:20260425T214200
CREATED:20240829T152705Z
LAST-MODIFIED:20240829T153300Z
UID:11563-1728864000-1728950399@sihltalersportclub.ch
SUMMARY:Kein Training (Herbstferien)
DESCRIPTION:
URL:https://sihltalersportclub.ch/trainings-news/kein-training-herbstferien/
END:VEVENT
BEGIN:VEVENT
DTSTART;TZID=Europe/Zurich:20241017T000000
DTEND;TZID=Europe/Zurich:20241017T235959
DTSTAMP:20260425T214200
CREATED:20240916T084128Z
LAST-MODIFIED:20240916T084130Z
UID:11719-1729123200-1729209599@sihltalersportclub.ch
SUMMARY:Kein Training (Herbstferien)
DESCRIPTION:
URL:https://sihltalersportclub.ch/trainings-news/kein-training-herbstferien-4/
END:VEVENT
BEGIN:VEVENT
DTSTART;TZID=Europe/Zurich:20241021T183000
DTEND;TZID=Europe/Zurich:20241021T193000
DTSTAMP:20260425T214200
CREATED:20240829T153829Z
LAST-MODIFIED:20240829T153830Z
UID:11571-1729535400-1729539000@sihltalersportclub.ch
SUMMARY:Ganzkörper-Training
DESCRIPTION:Trainingsleitung: Anita Meyer
URL:https://sihltalersportclub.ch/trainings-news/ganzkoerper-training-6/
END:VEVENT
BEGIN:VEVENT
DTSTART;TZID=Europe/Zurich:20241024T190000
DTEND;TZID=Europe/Zurich:20241024T200000
DTSTAMP:20260425T214200
CREATED:20240916T084247Z
LAST-MODIFIED:20240916T084248Z
UID:11721-1729796400-1729800000@sihltalersportclub.ch
SUMMARY:Body-Toning
DESCRIPTION:Trainingsleitung: Britta Zazar
URL:https://sihltalersportclub.ch/trainings-news/body-toning-2/
END:VEVENT
BEGIN:VEVENT
DTSTART;TZID=Europe/Zurich:20241026T140000
DTEND;TZID=Europe/Zurich:20241026T140000
DTSTAMP:20260425T214200
CREATED:20240902T160550Z
LAST-MODIFIED:20240902T161012Z
UID:11627-1729951200-1729951200@sihltalersportclub.ch
SUMMARY:Herbstlauf Wila
DESCRIPTION:
URL:https://sihltalersportclub.ch/trainings-news/herbstlauf-wila/
END:VEVENT
BEGIN:VEVENT
DTSTART;TZID=Europe/Zurich:20241028T183000
DTEND;TZID=Europe/Zurich:20241028T193000
DTSTAMP:20260425T214200
CREATED:20240829T153554Z
LAST-MODIFIED:20240829T153555Z
UID:11569-1730140200-1730143800@sihltalersportclub.ch
SUMMARY:Ganzkörper-Training
DESCRIPTION:Trainingsleitung: Simone Küttel
URL:https://sihltalersportclub.ch/trainings-news/ganzkoerper-training-5/
END:VEVENT
BEGIN:VEVENT
DTSTART;TZID=Europe/Zurich:20241031T190000
DTEND;TZID=Europe/Zurich:20241031T200000
DTSTAMP:20260425T214200
CREATED:20240916T100308Z
LAST-MODIFIED:20240916T100309Z
UID:11781-1730401200-1730404800@sihltalersportclub.ch
SUMMARY:Body-Toning
DESCRIPTION:Trainingsleitung: Tina Inglin
URL:https://sihltalersportclub.ch/trainings-news/body-toning-24/
END:VEVENT
END:VCALENDAR