BEGIN:VCALENDAR
VERSION:2.0
PRODID:-//Sihltaler Sportclub - ECPv6.15.20//NONSGML v1.0//EN
CALSCALE:GREGORIAN
METHOD:PUBLISH
X-ORIGINAL-URL:https://sihltalersportclub.ch
X-WR-CALDESC:Veranstaltungen für Sihltaler Sportclub
REFRESH-INTERVAL;VALUE=DURATION:PT1H
X-Robots-Tag:noindex
X-PUBLISHED-TTL:PT1H
BEGIN:VTIMEZONE
TZID:Europe/Zurich
BEGIN:DAYLIGHT
TZOFFSETFROM:+0100
TZOFFSETTO:+0200
TZNAME:CEST
DTSTART:20230326T010000
END:DAYLIGHT
BEGIN:STANDARD
TZOFFSETFROM:+0200
TZOFFSETTO:+0100
TZNAME:CET
DTSTART:20231029T010000
END:STANDARD
BEGIN:DAYLIGHT
TZOFFSETFROM:+0100
TZOFFSETTO:+0200
TZNAME:CEST
DTSTART:20240331T010000
END:DAYLIGHT
BEGIN:STANDARD
TZOFFSETFROM:+0200
TZOFFSETTO:+0100
TZNAME:CET
DTSTART:20241027T010000
END:STANDARD
BEGIN:DAYLIGHT
TZOFFSETFROM:+0100
TZOFFSETTO:+0200
TZNAME:CEST
DTSTART:20250330T010000
END:DAYLIGHT
BEGIN:STANDARD
TZOFFSETFROM:+0200
TZOFFSETTO:+0100
TZNAME:CET
DTSTART:20251026T010000
END:STANDARD
END:VTIMEZONE
BEGIN:VEVENT
DTSTART;TZID=Europe/Zurich:20240902T183000
DTEND;TZID=Europe/Zurich:20240902T193000
DTSTAMP:20260425T234429
CREATED:20240829T152242Z
LAST-MODIFIED:20240829T152243Z
UID:11558-1725301800-1725305400@sihltalersportclub.ch
SUMMARY:Ganzkörper-Training
DESCRIPTION:Trainingsleitung: Simone Küttel
URL:https://sihltalersportclub.ch/trainings-news/ganzkoerper-training-3/
END:VEVENT
BEGIN:VEVENT
DTSTART;TZID=Europe/Zurich:20240904T185000
DTEND;TZID=Europe/Zurich:20240904T185000
DTSTAMP:20260425T234429
CREATED:20240829T160351Z
LAST-MODIFIED:20240829T160353Z
UID:11602-1725475800-1725475800@sihltalersportclub.ch
SUMMARY:SSC-Tempolauf
DESCRIPTION:Start beim Schulhaus Schweikrüti. Weitere Informationen folgen!
URL:https://sihltalersportclub.ch/trainings-news/ssc-tempolauf/
END:VEVENT
BEGIN:VEVENT
DTSTART;TZID=Europe/Zurich:20240909T183000
DTEND;TZID=Europe/Zurich:20240909T193000
DTSTAMP:20260425T234429
CREATED:20240829T152426Z
LAST-MODIFIED:20240829T152436Z
UID:11560-1725906600-1725910200@sihltalersportclub.ch
SUMMARY:Ganzkörper-Training
DESCRIPTION:Trainingsleitung: Anita Meyer (Knabenschiessen)
URL:https://sihltalersportclub.ch/trainings-news/ganzkoerper-training-4/
END:VEVENT
BEGIN:VEVENT
DTSTART;TZID=Europe/Zurich:20240914T110000
DTEND;TZID=Europe/Zurich:20240914T110000
DTSTAMP:20260425T234429
CREATED:20240902T160226Z
LAST-MODIFIED:20240902T160227Z
UID:11625-1726311600-1726311600@sihltalersportclub.ch
SUMMARY:Schnebelhornlauf
DESCRIPTION:Siehe die Informationen in der Newsmeldung unter nachstehendem Link!
URL:https://sihltalersportclub.ch/trainings-news/schnebelhornlauf/
END:VEVENT
BEGIN:VEVENT
DTSTART;TZID=Europe/Zurich:20240916T183000
DTEND;TZID=Europe/Zurich:20240916T193000
DTSTAMP:20260425T234429
CREATED:20240829T150712Z
LAST-MODIFIED:20240829T151009Z
UID:11546-1726511400-1726515000@sihltalersportclub.ch
SUMMARY:Ganzkörper-Training
DESCRIPTION:Trainingsleitung: Simone Küttel
URL:https://sihltalersportclub.ch/trainings-news/ganzkoerper-training/
END:VEVENT
BEGIN:VEVENT
DTSTART;TZID=Europe/Zurich:20240923T183000
DTEND;TZID=Europe/Zurich:20240923T193000
DTSTAMP:20260425T234429
CREATED:20240829T151631Z
LAST-MODIFIED:20240829T152103Z
UID:11552-1727116200-1727119800@sihltalersportclub.ch
SUMMARY:Ganzkörper-Training
DESCRIPTION:Trainingsleitung: Anita Meyer
URL:https://sihltalersportclub.ch/trainings-news/ganzkoerper-training-2/
END:VEVENT
BEGIN:VEVENT
DTSTART;TZID=Europe/Zurich:20240930T183000
DTEND;TZID=Europe/Zurich:20240930T193000
DTSTAMP:20260425T234429
CREATED:20240829T151307Z
LAST-MODIFIED:20240829T151445Z
UID:11548-1727721000-1727724600@sihltalersportclub.ch
SUMMARY:Ganzkörper-Training
DESCRIPTION:Trainingsleitung: Simone Küttel
URL:https://sihltalersportclub.ch/trainings-news/gnzkoerper-training/
END:VEVENT
END:VCALENDAR