BEGIN:VCALENDAR
VERSION:2.0
PRODID:-//Sihltaler Sportclub - ECPv6.15.20//NONSGML v1.0//EN
CALSCALE:GREGORIAN
METHOD:PUBLISH
X-ORIGINAL-URL:https://sihltalersportclub.ch
X-WR-CALDESC:Veranstaltungen für Sihltaler Sportclub
REFRESH-INTERVAL;VALUE=DURATION:PT1H
X-Robots-Tag:noindex
X-PUBLISHED-TTL:PT1H
BEGIN:VTIMEZONE
TZID:Europe/Zurich
BEGIN:DAYLIGHT
TZOFFSETFROM:+0100
TZOFFSETTO:+0200
TZNAME:CEST
DTSTART:20250330T010000
END:DAYLIGHT
BEGIN:STANDARD
TZOFFSETFROM:+0200
TZOFFSETTO:+0100
TZNAME:CET
DTSTART:20251026T010000
END:STANDARD
BEGIN:DAYLIGHT
TZOFFSETFROM:+0100
TZOFFSETTO:+0200
TZNAME:CEST
DTSTART:20260329T010000
END:DAYLIGHT
BEGIN:STANDARD
TZOFFSETFROM:+0200
TZOFFSETTO:+0100
TZNAME:CET
DTSTART:20261025T010000
END:STANDARD
BEGIN:DAYLIGHT
TZOFFSETFROM:+0100
TZOFFSETTO:+0200
TZNAME:CEST
DTSTART:20270328T010000
END:DAYLIGHT
BEGIN:STANDARD
TZOFFSETFROM:+0200
TZOFFSETTO:+0100
TZNAME:CET
DTSTART:20271031T010000
END:STANDARD
END:VTIMEZONE
BEGIN:VEVENT
DTSTART;TZID=Europe/Zurich:20260420T000000
DTEND;TZID=Europe/Zurich:20260420T235959
DTSTAMP:20260420T133704
CREATED:20260105T131713Z
LAST-MODIFIED:20260105T131714Z
UID:15018-1776643200-1776729599@sihltalersportclub.ch
SUMMARY:Kein Training (Frühlingsferien)
DESCRIPTION:
URL:https://sihltalersportclub.ch/trainings-news/kein-training-fruehlingsferien-6/
END:VEVENT
BEGIN:VEVENT
DTSTART;TZID=Europe/Zurich:20260427T000000
DTEND;TZID=Europe/Zurich:20260427T235959
DTSTAMP:20260420T133704
CREATED:20260105T131756Z
LAST-MODIFIED:20260105T131757Z
UID:15020-1777248000-1777334399@sihltalersportclub.ch
SUMMARY:Kein Training (Frühlingsferien)
DESCRIPTION:
URL:https://sihltalersportclub.ch/trainings-news/kein-training-fruehlingsferien-7/
END:VEVENT
BEGIN:VEVENT
DTSTART;TZID=Europe/Zurich:20260501T000000
DTEND;TZID=Europe/Zurich:20260501T235959
DTSTAMP:20260420T133704
CREATED:20260105T170211Z
LAST-MODIFIED:20260105T170213Z
UID:15037-1777593600-1777679999@sihltalersportclub.ch
SUMMARY:24. Sihltaler Frühlingslauf
DESCRIPTION:Bei unserem Lauf sind wir in erster Linie als Helferinnen und Helfer im Einsatz!
URL:https://sihltalersportclub.ch/trainings-news/24-sihltaler-fruehlingslauf/
END:VEVENT
BEGIN:VEVENT
DTSTART;TZID=Europe/Zurich:20260504T183000
DTEND;TZID=Europe/Zurich:20260504T193000
DTSTAMP:20260420T133704
CREATED:20260105T131926Z
LAST-MODIFIED:20260105T131927Z
UID:15023-1777919400-1777923000@sihltalersportclub.ch
SUMMARY:Ganzkörper-Training
DESCRIPTION:Trainingsleitung: Anita Meyer
URL:https://sihltalersportclub.ch/trainings-news/ganzkoerper-training-56/
END:VEVENT
BEGIN:VEVENT
DTSTART;TZID=Europe/Zurich:20260506T190000
DTEND;TZID=Europe/Zurich:20260506T200000
DTSTAMP:20260420T133704
CREATED:20260105T165334Z
LAST-MODIFIED:20260311T111105Z
UID:15035-1778094000-1778097600@sihltalersportclub.ch
SUMMARY:SSC-Challenge
DESCRIPTION:Vereinswettkampf auf der Jogging-Strecke SFL mit anschliessendem Apéro für alle – verbunden mit einem Schuhtest\, organisiert durch WeRun.
URL:https://sihltalersportclub.ch/trainings-news/ssc-challenge-2/
END:VEVENT
BEGIN:VEVENT
DTSTART;TZID=Europe/Zurich:20260509T000000
DTEND;TZID=Europe/Zurich:20260509T235959
DTSTAMP:20260420T133704
CREATED:20260105T170330Z
LAST-MODIFIED:20260105T170332Z
UID:15039-1778284800-1778371199@sihltalersportclub.ch
SUMMARY:GP Bern
DESCRIPTION:2. Gemeinsamer SSC-Wettkampf 2026 \n\n\n\nWeitere Informationen folgen!
URL:https://sihltalersportclub.ch/trainings-news/gp-bern-2/
END:VEVENT
BEGIN:VEVENT
DTSTART;TZID=Europe/Zurich:20260511T183000
DTEND;TZID=Europe/Zurich:20260511T193000
DTSTAMP:20260420T133704
CREATED:20260105T132049Z
LAST-MODIFIED:20260105T132050Z
UID:15025-1778524200-1778527800@sihltalersportclub.ch
SUMMARY:Ganzkörper-Training
DESCRIPTION:Trainingsleitung: Simone Küttel
URL:https://sihltalersportclub.ch/trainings-news/ganzkoerper-training-57/
END:VEVENT
BEGIN:VEVENT
DTSTART;TZID=Europe/Zurich:20260518T183000
DTEND;TZID=Europe/Zurich:20260518T193000
DTSTAMP:20260420T133704
CREATED:20260105T132204Z
LAST-MODIFIED:20260105T132206Z
UID:15027-1779129000-1779132600@sihltalersportclub.ch
SUMMARY:Ganzkörper-Training
DESCRIPTION:Trainingsleitung: Anita Meyer
URL:https://sihltalersportclub.ch/trainings-news/ganzkoerper-training-58/
END:VEVENT
BEGIN:VEVENT
DTSTART;TZID=Europe/Zurich:20260525T000000
DTEND;TZID=Europe/Zurich:20260525T235959
DTSTAMP:20260420T133704
CREATED:20260105T132258Z
LAST-MODIFIED:20260105T132300Z
UID:15029-1779667200-1779753599@sihltalersportclub.ch
SUMMARY:Kein Training (Pfingstmontag)
DESCRIPTION:
URL:https://sihltalersportclub.ch/trainings-news/kein-training-pfingstmontag/
END:VEVENT
BEGIN:VEVENT
DTSTART;TZID=Europe/Zurich:20260606T000000
DTEND;TZID=Europe/Zurich:20260606T235959
DTSTAMP:20260420T133704
CREATED:20260105T170558Z
LAST-MODIFIED:20260105T170559Z
UID:15041-1780704000-1780790399@sihltalersportclub.ch
SUMMARY:SSC Velotour
DESCRIPTION:Eventuell findet die Velotour erst am Sonntag 7. Juni statt. Weitere Informationen folgen!
URL:https://sihltalersportclub.ch/trainings-news/ssc-velotour-2/
END:VEVENT
BEGIN:VEVENT
DTSTART;TZID=Europe/Zurich:20260610T190000
DTEND;TZID=Europe/Zurich:20260610T220000
DTSTAMP:20260420T133704
CREATED:20260203T145430Z
LAST-MODIFIED:20260203T145432Z
UID:15295-1781118000-1781128800@sihltalersportclub.ch
SUMMARY:SSC-Sommernachts-Training
DESCRIPTION:Details werden zeitgerecht bekanntgegeben!
URL:https://sihltalersportclub.ch/trainings-news/ssc-sommernachts-training-2/
END:VEVENT
BEGIN:VEVENT
DTSTART;TZID=Europe/Zurich:20260627T000000
DTEND;TZID=Europe/Zurich:20260628T235959
DTSTAMP:20260420T133704
CREATED:20260105T171038Z
LAST-MODIFIED:20260105T172759Z
UID:15043-1782518400-1782691199@sihltalersportclub.ch
SUMMARY:SSC-Trainings-Wochenende in der Lenzerheide
DESCRIPTION:SSC-Trainings-Wochenende in der  Lenzerheide für für ALLE!Nachstehend die detaillierte Ausschreibung und das Anmeldeformular! \n\n\n\nAusschreibung Trainingsweekend 2026Herunterladen\n\n\n\nAnmeldung Trainingsweekend 2026Herunterladen
URL:https://sihltalersportclub.ch/trainings-news/ssc-trainings-wochenende-in-der-lenzerheide/
END:VEVENT
BEGIN:VEVENT
DTSTART;TZID=Europe/Zurich:20260709T000000
DTEND;TZID=Europe/Zurich:20260709T235959
DTSTAMP:20260420T133704
CREATED:20260105T171230Z
LAST-MODIFIED:20260105T171232Z
UID:15045-1783555200-1783641599@sihltalersportclub.ch
SUMMARY:SSC Fun-Triathlon
DESCRIPTION:Weitere Informationen folgen!
URL:https://sihltalersportclub.ch/trainings-news/ssc-fun-triathlon/
END:VEVENT
BEGIN:VEVENT
DTSTART;TZID=Europe/Zurich:20260816T000000
DTEND;TZID=Europe/Zurich:20260816T235959
DTSTAMP:20260420T133704
CREATED:20260203T144210Z
LAST-MODIFIED:20260203T144212Z
UID:15291-1786838400-1786924799@sihltalersportclub.ch
SUMMARY:SSC-Frühstückslauf 2026
DESCRIPTION:Zum vierten Mal in Aesch ZH auf dem Stalder-Hof. Details werden zeitgerecht bekanntgegeben!
URL:https://sihltalersportclub.ch/trainings-news/ssc-fruehstueckslauf-2026/
END:VEVENT
BEGIN:VEVENT
DTSTART;TZID=Europe/Zurich:20260905T000000
DTEND;TZID=Europe/Zurich:20260905T235959
DTSTAMP:20260420T133704
CREATED:20260105T171512Z
LAST-MODIFIED:20260105T171514Z
UID:15049-1788566400-1788652799@sihltalersportclub.ch
SUMMARY:Herbstlauf Muri
DESCRIPTION:3. Gemeinsamer SSC-Wettkampf 2026
URL:https://sihltalersportclub.ch/trainings-news/herbstlauf-muri-2/
END:VEVENT
BEGIN:VEVENT
DTSTART;TZID=Europe/Zurich:20260919T000000
DTEND;TZID=Europe/Zurich:20260919T235959
DTSTAMP:20260420T133704
CREATED:20260105T171624Z
LAST-MODIFIED:20260105T171626Z
UID:15051-1789776000-1789862399@sihltalersportclub.ch
SUMMARY:Schnebelhornlauf
DESCRIPTION:4. Gemeinsamer SSC-Wettkampf 2026
URL:https://sihltalersportclub.ch/trainings-news/schnebelhornlauf-2/
END:VEVENT
BEGIN:VEVENT
DTSTART;TZID=Europe/Zurich:20261003T000000
DTEND;TZID=Europe/Zurich:20261007T235959
DTSTAMP:20260420T133704
CREATED:20260105T171745Z
LAST-MODIFIED:20260105T171747Z
UID:15053-1790985600-1791417599@sihltalersportclub.ch
SUMMARY:SSC-Laufreise nach Halle (D)
DESCRIPTION:Die detaillierte Ausschreibung und das Anmeldeformular folgen!
URL:https://sihltalersportclub.ch/trainings-news/ssc-laufreise-nach-halle-d/
END:VEVENT
BEGIN:VEVENT
DTSTART;TZID=Europe/Zurich:20261024T000000
DTEND;TZID=Europe/Zurich:20261024T235959
DTSTAMP:20260420T133704
CREATED:20260105T171907Z
LAST-MODIFIED:20260105T171910Z
UID:15055-1792800000-1792886399@sihltalersportclub.ch
SUMMARY:Wila Herbstlauf
DESCRIPTION:5. Gemeinsamer SSC-Wettkampf 2026
URL:https://sihltalersportclub.ch/trainings-news/wila-herbstlauf/
END:VEVENT
BEGIN:VEVENT
DTSTART;TZID=Europe/Zurich:20261030T000000
DTEND;TZID=Europe/Zurich:20261030T235959
DTSTAMP:20260420T133704
CREATED:20260403T081804Z
LAST-MODIFIED:20260403T081805Z
UID:15689-1793318400-1793404799@sihltalersportclub.ch
SUMMARY:SSC Leiterinnen- und Leiter-Essen
DESCRIPTION:Weitere Informationen folgen!
URL:https://sihltalersportclub.ch/trainings-news/ssc-leiterinnen-und-leiter-essen/
END:VEVENT
END:VCALENDAR