BEGIN:VCALENDAR
VERSION:2.0
PRODID:-//Sihltaler Sportclub - ECPv6.15.20//NONSGML v1.0//EN
CALSCALE:GREGORIAN
METHOD:PUBLISH
X-WR-CALNAME:Sihltaler Sportclub
X-ORIGINAL-URL:https://sihltalersportclub.ch
X-WR-CALDESC:Veranstaltungen für Sihltaler Sportclub
REFRESH-INTERVAL;VALUE=DURATION:PT1H
X-Robots-Tag:noindex
X-PUBLISHED-TTL:PT1H
BEGIN:VTIMEZONE
TZID:Europe/Zurich
BEGIN:DAYLIGHT
TZOFFSETFROM:+0100
TZOFFSETTO:+0200
TZNAME:CEST
DTSTART:20240331T010000
END:DAYLIGHT
BEGIN:STANDARD
TZOFFSETFROM:+0200
TZOFFSETTO:+0100
TZNAME:CET
DTSTART:20241027T010000
END:STANDARD
BEGIN:DAYLIGHT
TZOFFSETFROM:+0100
TZOFFSETTO:+0200
TZNAME:CEST
DTSTART:20250330T010000
END:DAYLIGHT
BEGIN:STANDARD
TZOFFSETFROM:+0200
TZOFFSETTO:+0100
TZNAME:CET
DTSTART:20251026T010000
END:STANDARD
BEGIN:DAYLIGHT
TZOFFSETFROM:+0100
TZOFFSETTO:+0200
TZNAME:CEST
DTSTART:20260329T010000
END:DAYLIGHT
BEGIN:STANDARD
TZOFFSETFROM:+0200
TZOFFSETTO:+0100
TZNAME:CET
DTSTART:20261025T010000
END:STANDARD
END:VTIMEZONE
BEGIN:VEVENT
DTSTART;TZID=Europe/Zurich:20250516T080000
DTEND;TZID=Europe/Zurich:20250520T170000
DTSTAMP:20260421T100958
CREATED:20250106T101516Z
LAST-MODIFIED:20250106T101518Z
UID:12306-1747382400-1747760400@sihltalersportclub.ch
SUMMARY:SSC-Laufreise nach Radenci (Slowenien)
DESCRIPTION:
URL:https://sihltalersportclub.ch/trainings-news/ssc-laufreise-nach-radenci-slowenien/
END:VEVENT
BEGIN:VEVENT
DTSTART;TZID=Europe/Zurich:20250519T183000
DTEND;TZID=Europe/Zurich:20250519T193000
DTSTAMP:20260421T100958
CREATED:20240930T125412Z
LAST-MODIFIED:20250515T144545Z
UID:11835-1747679400-1747683000@sihltalersportclub.ch
SUMMARY:Ganzkörper-Training
DESCRIPTION:Trainingsleitung: Britta Zazar
URL:https://sihltalersportclub.ch/trainings-news/ganzkoerper-training-28/
END:VEVENT
END:VCALENDAR