BEGIN:VCALENDAR
VERSION:2.0
PRODID:-//Sihltaler Sportclub - ECPv6.15.20//NONSGML v1.0//EN
CALSCALE:GREGORIAN
METHOD:PUBLISH
X-WR-CALNAME:Sihltaler Sportclub
X-ORIGINAL-URL:https://sihltalersportclub.ch
X-WR-CALDESC:Veranstaltungen für Sihltaler Sportclub
REFRESH-INTERVAL;VALUE=DURATION:PT1H
X-Robots-Tag:noindex
X-PUBLISHED-TTL:PT1H
BEGIN:VTIMEZONE
TZID:Europe/Zurich
BEGIN:DAYLIGHT
TZOFFSETFROM:+0100
TZOFFSETTO:+0200
TZNAME:CEST
DTSTART:20240331T010000
END:DAYLIGHT
BEGIN:STANDARD
TZOFFSETFROM:+0200
TZOFFSETTO:+0100
TZNAME:CET
DTSTART:20241027T010000
END:STANDARD
BEGIN:DAYLIGHT
TZOFFSETFROM:+0100
TZOFFSETTO:+0200
TZNAME:CEST
DTSTART:20250330T010000
END:DAYLIGHT
BEGIN:STANDARD
TZOFFSETFROM:+0200
TZOFFSETTO:+0100
TZNAME:CET
DTSTART:20251026T010000
END:STANDARD
BEGIN:DAYLIGHT
TZOFFSETFROM:+0100
TZOFFSETTO:+0200
TZNAME:CEST
DTSTART:20260329T010000
END:DAYLIGHT
BEGIN:STANDARD
TZOFFSETFROM:+0200
TZOFFSETTO:+0100
TZNAME:CET
DTSTART:20261025T010000
END:STANDARD
END:VTIMEZONE
BEGIN:VEVENT
DTSTART;TZID=Europe/Zurich:20250417T000000
DTEND;TZID=Europe/Zurich:20250417T235959
DTSTAMP:20260421T115921
CREATED:20240916T095202Z
LAST-MODIFIED:20240916T095203Z
UID:11773-1744848000-1744934399@sihltalersportclub.ch
SUMMARY:Kein Training (Frühlingsferien)
DESCRIPTION:
URL:https://sihltalersportclub.ch/trainings-news/kein-training-fruehlingsferien/
END:VEVENT
BEGIN:VEVENT
DTSTART;TZID=Europe/Zurich:20250417T183000
DTEND;TZID=Europe/Zurich:20250417T200000
DTSTAMP:20260421T115921
CREATED:20250223T115454Z
LAST-MODIFIED:20250312T214701Z
UID:12857-1744914600-1744920000@sihltalersportclub.ch
SUMMARY:Donnerstagabend Rennvelo Ausfahrt
DESCRIPTION:Jeden Donnerstagabend geführte Rennradausfahrten vom 17. April bis 25. September 2025 bei trockenen Strassenverhältnissen. Start jeweils 18.30 Uhr\, Treffpunkt Bahnhof Langnau oder Sportanlage Brand; gemäss Ansage im Chat.
URL:https://sihltalersportclub.ch/trainings-news/donnerstagabend-rennvelo-ausfahrt/
END:VEVENT
END:VCALENDAR